BEGIN:VCALENDAR
VERSION:2.0
PRODID:-//Tukios.com/
BEGIN:VEVENT
UID:34f5db9c-6c73-4b77-80fb-b48282885908@www.emersonfuneralhome.com
DTSTAMP:20260422T200854Z
DTSTART:20260423T190000Z
DTEND:20260423T200000Z
SUMMARY:Celebration of Life
DESCRIPTION:
URL:https://www.emersonfuneralhome.com/obituaries/romana-russell
LOCATION:Emerson Memorial Chapel  Emerson Lane  Jonesboro AR 72404
GEO:35.7945023;-90.7404133
END:VEVENT
END:VCALENDAR