BEGIN:VCALENDAR
VERSION:2.0
PRODID:-//Tukios.com/
BEGIN:VEVENT
UID:184f7e35-e2b7-414c-af50-547787a68696@www.emersonfuneralhome.com
DTSTAMP:20260422T200828Z
DTSTART:20260423T180000Z
DTEND:20260423T190000Z
SUMMARY:Visitation
DESCRIPTION:
URL:https://www.emersonfuneralhome.com/obituaries/romana-russell
LOCATION:Emerson Memorial Chapel  Emerson Lane  Jonesboro AR 72404
GEO:35.7945023;-90.7404133
END:VEVENT
END:VCALENDAR