BEGIN:VCALENDAR
VERSION:2.0
PRODID:-//Tukios.com/
BEGIN:VEVENT
UID:0b7b6843-2166-49ec-932e-5646c0da1bd5@www.emersonfuneralhome.com
DTSTAMP:20260423T211453Z
DTSTART:20260425T153000Z
DTEND:20260425T163000Z
SUMMARY:Funeral Service
DESCRIPTION:
URL:https://www.emersonfuneralhome.com/obituaries/patricia-swan
LOCATION: 8238 US-63  Bono AR 72416
GEO:35.8718242;-90.7832037
END:VEVENT
END:VCALENDAR