BEGIN:VCALENDAR
VERSION:2.0
PRODID:-//Tukios.com/
BEGIN:VEVENT
UID:fa8112d0-2d1c-4470-98be-88803cf430ee@www.emersonfuneralhome.com
DTSTAMP:20260423T211515Z
DTSTART:20260425T143000Z
DTEND:20260425T153000Z
SUMMARY:Visitation
DESCRIPTION:
URL:https://www.emersonfuneralhome.com/obituaries/patricia-swan
LOCATION:Revival Tabernacle 8238 US-63  Bono AR 72416
GEO:35.8718242;-90.7832037
END:VEVENT
END:VCALENDAR