BEGIN:VCALENDAR
VERSION:2.0
PRODID:-//Tukios.com/
BEGIN:VEVENT
UID:592fc657-a0b0-4508-82b8-5def13d44f78@www.emersonfuneralhome.com
DTSTAMP:20260421T182710Z
DTSTART:20260424T150000Z
DTEND:20260424T160000Z
SUMMARY:Graveside Service
DESCRIPTION:Graveside service will be held at Pinelog Cemetery
URL:https://www.emersonfuneralhome.com/obituaries/cynthia-corbin
LOCATION: 233 County Road 763  Brookland AR 72417
GEO:35.9328392;-90.606699
END:VEVENT
END:VCALENDAR