BEGIN:VCALENDAR
VERSION:2.0
PRODID:-//Tukios.com/
BEGIN:VEVENT
UID:152b4df0-2bd8-4734-838a-937fde973714@www.emersonfuneralhome.com
DTSTAMP:20260421T182817Z
DTSTART:20260423T220000Z
DTEND:20260424T000000Z
SUMMARY:Visitation
DESCRIPTION:Visitation will be held in the stateroom at Emerson Funeral 
	Home.
URL:https://www.emersonfuneralhome.com/obituaries/cynthia-corbin
LOCATION: 1629 E Nettleton  Jonesboro AR 72401
GEO:35.8277446;-90.6861197
END:VEVENT
END:VCALENDAR